BEGIN:VCALENDAR
VERSION:2.0
PRODID:-//ChamberMaster//Event Calendar 2.0//EN
METHOD:PUBLISH
X-PUBLISHED-TTL:P3D
REFRESH-INTERVAL:P3D
CALSCALE:GREGORIAN
BEGIN:VEVENT
DTSTART:20260318T010000Z
DTEND:20260318T030000Z
X-MICROSOFT-CDO-ALLDAYEVENT:FALSE
SUMMARY:ZEAL Comedy Show
DESCRIPTION:COMEDY SHOW!!! Followed by an open mic.\n\nZeal   the inner flame that burns brightly for all to see.Bring your fire\, your jokes\, your courage\, and your enthusiasm!\n\n\n	Tuesday\, March 17\, 2026\,\n	7 9pm (Sign-ups at 6:30pm\, Food can be ordered at 6pm.)\n	Zeal Food\, 3101 Pearl Parkway\, Boulder\, CO\n	Food & drinks available\n	Adult comedy 18+\n\n\n~\n\nHosted by Helene Rose helenerose.com\n\nFeaturing these local very Funny Folks: Priscilla Courtney\, Jeremy Lomax\, Jeff Koehn\, Andy Wegleitner\, Jennifer Sutherland\, Katie Bowman\, Catherine Shea.\n\n\n\nTICKETS!! helenerose.com/comedy\n\n~\n\nOPEN MIC: Limited to 6 open mic guests. Sign up at 6:00pm.\n\nWhether you want to perform comedy (up to 4 minutes) or just laugh your face off with our pro comics\, come be part of night one! Let's light it up together.\n\n~\n\nPark in the garage next to the hotel and use the QR code in the restuarant for free parking.\n\nSeats are first come first serve. This is a cozy event with shared community tables or bar seating.\n\nSponsored by ZEAL Food and Be Brilliant Network.
X-ALT-DESC;FMTTYPE=text/html:<p>COMEDY SHOW!!! Followed by an open mic.<br />\nZeal &mdash\; the inner flame that burns brightly for all to see.Bring your fire\, your jokes\, your courage\, and your enthusiasm!</p>\n\n<ul>\n	<li>Tuesday\, March 17\, 2026\,</li>\n	<li>7&ndash\;9pm (Sign-ups at 6:30pm\, Food can be ordered at 6pm.)</li>\n	<li>Zeal Food\, 3101 Pearl Parkway\, Boulder\, CO</li>\n	<li>Food &amp\; drinks available</li>\n	<li>Adult comedy 18+</li>\n</ul>\n\n<p>~</p>\n\n<p>Hosted by Helene Rose helenerose.com</p>\n\n<p>Featuring these local very Funny Folks: <em><strong><strong>Priscilla Courtney\, Jeremy Lomax\, Jeff Koehn\, Andy Wegleitner</strong></strong></em><em><strong><strong>\, Jennifer Sutherland\, Katie Bowman\, Catherine Shea.<br />\n<br />\nTICKETS!! helenerose.com/comedy</strong></strong></em></p>\n\n<p>~</p>\n\n<p><strong><strong>OPEN MIC: Limited to 6 open mic guests. Sign up at 6:00pm.</strong></strong></p>\n\n<p>Whether you want to perform comedy (up to 4 minutes) or just laugh your face off with our pro comics\, come be part of night one! Let&rsquo\;s light it up together.</p>\n\n<p>~</p>\n\n<p>Park in the garage next to the hotel and use the QR code in the restuarant for free parking.</p>\n\n<p>Seats are first come first serve. This is a cozy event with shared community tables or bar seating.</p>\n\n<p>Sponsored by <a href="https://zealfood.com/" rel="nofollow noopener noreferrer ugc" target="_blank" title="https://zealfood.com/">ZEAL Food</a> and <a href="https://bebrilliantnetwork.com/" rel="nofollow noopener noreferrer ugc" target="_blank" title="https://bebrilliantnetwork.com/">Be Brilliant Network.</a></p>\n
LOCATION:Zeal Food 3101 Pearl Pkwy\, Boulder\, CO.
UID:e.1234.11884
SEQUENCE:3
DTSTAMP:20260421T074018Z
URL:https://business.lafayettecolorado.com/events/details/zeal-comedy-show-11884
END:VEVENT

END:VCALENDAR
