BEGIN:VCALENDAR
VERSION:2.0
PRODID:-//ChamberMaster//Event Calendar 2.0//EN
METHOD:PUBLISH
X-PUBLISHED-TTL:P3D
REFRESH-INTERVAL:P3D
CALSCALE:GREGORIAN
BEGIN:VEVENT
DTSTART:20250907T000000Z
DTEND:20250907T030000Z
X-MICROSOFT-CDO-ALLDAYEVENT:FALSE
SUMMARY:WOW! on Tap
DESCRIPTION:This adults-only evening features local craft beer\, delicious food\, lively games\, and a silent auction all supporting accessible\, play-based learning for children in our community. You don't want to miss this night!\n\n\n\nFunds raised through WOW! on Tap directly support accessible programming at WOW! Children's Museum\, helping us serve over 80\,000 visitors annually\, including thousands of children from underserved communities.
X-ALT-DESC;FMTTYPE=text/html:This adults-only evening features local craft beer\, delicious food\, lively games\, and a silent auction&mdash\;all supporting accessible\, play-based learning for children in our community. You don&#39\;t want to miss this night!<br />\n<br />\nFunds raised through WOW! on Tap directly support accessible programming at WOW! Children&rsquo\;s Museum\, helping us serve over 80\,000 visitors annually\, including thousands of children from underserved communities.
LOCATION:WOW! Children's Museum 110 N. Harrison Ave Lafayette CO 80026
UID:e.1234.11392
SEQUENCE:3
DTSTAMP:20260421T140705Z
URL:https://business.lafayettecolorado.com/events/details/wow-on-tap-09-06-2025-11392
END:VEVENT

END:VCALENDAR
