BEGIN:VCALENDAR
VERSION:2.0
PRODID:-//ChamberMaster//Event Calendar 2.0//EN
METHOD:PUBLISH
X-PUBLISHED-TTL:P3D
REFRESH-INTERVAL:P3D
CALSCALE:GREGORIAN
BEGIN:VEVENT
DTSTART:20260408T223000Z
DTEND:20260409T003000Z
X-MICROSOFT-CDO-ALLDAYEVENT:FALSE
SUMMARY:Volunteer Appreciation Event
DESCRIPTION:We can't run our events without our incredible volunteers\, and as a small token of appreciation\, we're hosting a Game Night here at the Chamber!\nWe'll have light refreshments\, lawn games available (weather permitting)\, and a light-hearted trivia game kicking off at 5:00pm. Come hang out\, bring your competitive spirit (or just your sense of humor)\, and enjoy an evening of games\, laughs\, and appreciation.\n\nWe can't wait to celebrate and say thank you! \nPlease note: this invite-only event is for those who volunteered at least once in the 2025 calendar year at one of our four major festivals: Brew Fest\, Fun & Fireworks\, Peach\, Holiday on the Plaza.
X-ALT-DESC;FMTTYPE=text/html:<div data-end="457" data-start="299" style="caret-color: rgb(0\, 0\, 0)\; color: rgb(0\, 0\, 0)\;"><span style="font-size:16px\;"><span style="font-family:verdana\;"><span style="caret-color: rgb(0\, 0\, 0)\; color: rgb(0\, 0\, 0)\;">We can&#39\;t run our events without our incredible volunteers\, and as a small token of appreciation\, we&#39\;re hosting a Game&nbsp\;Night here at the Chamber!</span></span></span>\n<p data-end="767" data-start="493" style="caret-color: rgb(0\, 0\, 0)\; color: rgb(0\, 0\, 0)\;"><span style="font-size:16px\;"><span style="font-family:verdana\;">We&rsquo\;ll have light refreshments\, lawn games available (weather permitting)\, and a light-hearted trivia game kicking off at 5:00pm.&nbsp\;Come hang out\, bring your competitive spirit (or just your sense of humor)\, and enjoy an evening of games\, laughs\, and appreciation.</span></span></p>\n\n<p data-end="817" data-start="769" style="caret-color: rgb(0\, 0\, 0)\; color: rgb(0\, 0\, 0)\;"><span style="font-size:16px\;"><span style="font-family:verdana\;">We can&rsquo\;t wait to celebrate and say thank you!&nbsp\;</span></span></p>\n<strong style="caret-color: rgb(0\, 0\, 0)\; color: rgb(0\, 0\, 0)\; font-family: verdana\; font-size: 16px\;"><em>Please note: this invite-only event is for those who volunteered at least once in the 2025 calendar year at one of our four major festivals: Brew Fest\, Fun &amp\; Fireworks\, Peach\, Holiday on the Plaza.</em></strong></div>\n
LOCATION:Lafayette Chamber of Commerce
UID:e.1234.11878
SEQUENCE:3
DTSTAMP:20260421T061031Z
URL:https://business.lafayettecolorado.com/events/details/volunteer-appreciation-event-11878
END:VEVENT

END:VCALENDAR
