BEGIN:VCALENDAR
VERSION:2.0
PRODID:-//ChamberMaster//Event Calendar 2.0//EN
METHOD:PUBLISH
X-PUBLISHED-TTL:P3D
REFRESH-INTERVAL:P3D
CALSCALE:GREGORIAN
BEGIN:VEVENT
DTSTART:20260811T170000Z
DTEND:20260811T180000Z
X-MICROSOFT-CDO-ALLDAYEVENT:FALSE
SUMMARY:The ABCs of BD: You don't have to do all the heavy-lifting
DESCRIPTION:The ABCs of Business Development is an ongoing series of virtual workshops covering foundational business development topics.\n\n\n\nThey say it takes a village. This month's session is devoted to how to enroll others to help you grow your business. We will discuss networking\, referrals\, partnerships\, lead groups\, member-based organizations\, events\, sponsorships\, and a bunch of other tactics aimed at augmenting the impact of your BD efforts through collaboration. You truly don't need to do all the heavy-lifting.\n\n\n\nBONUS! The register fee also includes a 2nd session devoted to a group discussion where you can share ideas and glean best practices from other attendees. It's two weeks later on Tuesday\, August 25th from 11am to 12pm. See FAQs on the Eventbrite page for more info about the format of The ABCs of Business Development.
X-ALT-DESC;FMTTYPE=text/html:<div>\n<div>The ABCs of Business Development is an ongoing series of virtual workshops covering foundational business development topics.<br />\n<br />\nThey say it takes a village. This month&#39\;s session is devoted to how to enroll others to help you grow your business. We will discuss networking\, referrals\, partnerships\, lead groups\, member-based organizations\, events\, sponsorships\, and a bunch of other tactics aimed at augmenting the impact of your BD efforts through collaboration. You truly don&#39\;t need to do all the heavy-lifting.<br />\n<br />\nBONUS!&nbsp\;The register fee also includes a 2nd session devoted to a group discussion where you can share ideas and glean best practices from other attendees. It&#39\;s two weeks later on Tuesday\, August 25th from 11am to 12pm.&nbsp\;<em>See FAQs on the Eventbrite page for more info about the format of The ABCs of Business Development.</em></div>\n</div>\n
LOCATION:Virtual workshop on Zoom\; register on Eventbrite to gain access
UID:e.1234.11868
SEQUENCE:3
DTSTAMP:20260421T044330Z
URL:https://business.lafayettecolorado.com/events/details/the-abcs-of-bd-you-don-t-have-to-do-all-the-heavy-lifting-11868
END:VEVENT

END:VCALENDAR
