BEGIN:VCALENDAR
VERSION:2.0
PRODID:-//ChamberMaster//Event Calendar 2.0//EN
METHOD:PUBLISH
X-PUBLISHED-TTL:P3D
REFRESH-INTERVAL:P3D
CALSCALE:GREGORIAN
BEGIN:VEVENT
DTSTART:20261103T180000Z
DTEND:20261103T190000Z
X-MICROSOFT-CDO-ALLDAYEVENT:FALSE
SUMMARY:The ABCs of BD: Leadership and empowering teams
DESCRIPTION:The ABCs of Business Development is an ongoing series of virtual workshops covering foundational business development topics.\n\n\n\nWe end our 12-module cycle with a look at leadership skills. If you lead a business development team\, you are most likely wearing multiple hats: salesperson\, manager\, coach\, mentor\, trainer...just to name a few. It's a daunting task to juggle so many responsiblities while also giving your team what they need to succeed. And even if you don't have an official BD team\, there are ways to engage your entire staff in growing your business. Spend an hour on Zoom learning what smart leaders do to empower their teams.\n\n\n\nBONUS! The register fee also includes a 2nd session devoted to a group discussion where you can share ideas and glean best practices from other attendees. It's two weeks later on Tuesday\, November 17th from 11am to 12pm. See FAQs on the Eventbrite page for more info about the format of The ABCs of Business Development.
X-ALT-DESC;FMTTYPE=text/html:<div>\n<div>The ABCs of Business Development is an ongoing series of virtual workshops covering foundational business development topics.<br />\n<br />\nWe end our 12-module cycle with a look at leadership skills. If you lead a business development team\, you are most likely wearing multiple hats: salesperson\, manager\, coach\, mentor\, trainer...just to name a few. It&#39\;s a daunting task to juggle so many responsiblities while also giving your team what they need to succeed. And even if you don&#39\;t have an official BD team\, there are ways to engage your entire staff in growing your business. Spend an hour on Zoom learning what smart leaders do to empower their teams.<br />\n<br />\nBONUS!&nbsp\;The register fee also includes a 2nd session devoted to a group discussion where you can share ideas and glean best practices from other attendees. It&#39\;s two weeks later on Tuesday\, November 17th from 11am to 12pm.&nbsp\;<em>See FAQs on the Eventbrite page for more info about the format of The ABCs of Business Development.</em></div>\n</div>\n
LOCATION:Virtual workshop on Zoom\; register on Eventbrite to gain access
UID:e.1234.11871
SEQUENCE:3
DTSTAMP:20260421T113101Z
URL:https://business.lafayettecolorado.com/events/details/the-abcs-of-bd-leadership-and-empowering-teams-11871
END:VEVENT

END:VCALENDAR
