BEGIN:VCALENDAR
VERSION:2.0
PRODID:-//ChamberMaster//Event Calendar 2.0//EN
METHOD:PUBLISH
X-PUBLISHED-TTL:P3D
REFRESH-INTERVAL:P3D
CALSCALE:GREGORIAN
BEGIN:VEVENT
DTSTART:20260211T233000Z
DTEND:20260212T003000Z
X-MICROSOFT-CDO-ALLDAYEVENT:FALSE
SUMMARY:Ribbon Cutting @ The Well
DESCRIPTION:Come celebrate a new location\, new services\, and a 5-year anniversary!\n\n\n\nThe Well Healing Center was created in December 2020 to create a place where the community and families can thrive. In ancient times\, a well was a place where the community would gather and represented the source of health for that area. Likewise\, The Well Healing Center strives to create a flourishing community through the wellness services they provide. \n\n\n\nYou can receive NetworkSpinal chiropractic\, which is a gentle form of aligning your nervous system. The practice is excited to offer a few new services to further how we support their clients\, including vibroacoustic therapy and High tone therapy. Learn more about these and other services at the event! \n\n\n\nThere will be networking\, food\, beverages\, and prizes! Don't miss the chance to learn more and connect with others.\n\n\n\nThis event is open to the public and is being hosted in collaboration with the Broomfield Chamber\, the Erie Chamber\, and the Louisville Chamber.
X-ALT-DESC;FMTTYPE=text/html:<div style="font-size: 16px\; caret-color: rgb(33\, 33\, 33)\; color: rgb(33\, 33\, 33)\; font-family: Aptos\;">\n<div><span style="font-size:16px\;"><span style="font-family:verdana\;"><span class="outlook-search-highlight" data-markjs="true">Come celebrate a new location\, new services\, and a 5-year anniversary!<br />\n<br />\nThe</span>&nbsp\;<span class="outlook-search-highlight" data-markjs="true">Well</span>&nbsp\;Healing Center was created in December 2020 to create a place where&nbsp\;<span class="outlook-search-highlight" data-markjs="true">the</span>&nbsp\;community and families can thrive. In ancient times\, a&nbsp\;<span class="outlook-search-highlight" data-markjs="true">well</span>&nbsp\;was a place where the community would ga<span class="outlook-search-highlight" data-markjs="true">the</span>r and represented&nbsp\;<span class="outlook-search-highlight" data-markjs="true">the</span>&nbsp\;source of health for that area. Likewise\, The Well Healing Center strives to create a flourishing community through&nbsp\;<span class="outlook-search-highlight" data-markjs="true">the&nbsp\;</span><span class="outlook-search-highlight" data-markjs="true">well</span>ness services they provide.&nbsp\;<br />\n<br />\nYou can receive NetworkSpinal chiropractic\, which is a gentle form of aligning your nervous system.&nbsp\;The practice is <span style="caret-color: rgb(33\, 33\, 33)\; color: rgb(33\, 33\, 33)\;">excited to offer a few </span><span style="caret-color: rgb(33\, 33\, 33)\; color: rgb(33\, 33\, 33)\;">new services to fur</span><span class="outlook-search-highlight" data-markjs="true" style="caret-color: rgb(33\, 33\, 33)\; color: rgb(33\, 33\, 33)\;">the</span><span style="caret-color: rgb(33\, 33\, 33)\; color: rgb(33\, 33\, 33)\;">r how we support their clients\, including&nbsp\;</span>vibroacoustic&nbsp\;<span class="outlook-search-highlight" data-markjs="true">the</span>rapy and High tone&nbsp\;<span class="outlook-search-highlight" data-markjs="true">the</span>rapy. Learn more about these and other services at the event!&nbsp\;<br />\n<br />\n<span class="outlook-search-highlight" data-markjs="true">The</span>re will be networking\, food\, beverages\, and prizes! Don&#39\;t miss the chance to learn more and connect with others.<br />\n<br />\nThis event is open to the public and is being hosted in collaboration with the Broomfield Chamber\, the Erie Chamber\, and the&nbsp\;<span style="caret-color: rgb(33\, 33\, 33)\; color: rgb(33\, 33\, 33)\;">Louisville Chamber.&nbsp\;</span></span></span></div>\n</div>\n
LOCATION:2569 Park Lane Suite 201 Lafayette\, CO
UID:e.1234.11713
SEQUENCE:3
DTSTAMP:20260421T071945Z
URL:https://business.lafayettecolorado.com/events/details/ribbon-cutting-the-well-11713
END:VEVENT

END:VCALENDAR
