BEGIN:VCALENDAR
VERSION:2.0
PRODID:-//ChamberMaster//Event Calendar 2.0//EN
METHOD:PUBLISH
X-PUBLISHED-TTL:P3D
REFRESH-INTERVAL:P3D
CALSCALE:GREGORIAN
BEGIN:VEVENT
DTSTART:20260423T220000Z
DTEND:20260423T230000Z
X-MICROSOFT-CDO-ALLDAYEVENT:FALSE
SUMMARY:Ribbon Cutting @ The Dr. Ida Rolf Institute
DESCRIPTION:Join us in welcoming Dr. Ida Rolf Institute (DIRI) to their new home here in Lafayette! This special event marks the institute's recent relocation and serves as their official Grand Opening and Ribbon Cutting celebration.\n\nEstablished in 1971\, DIRI is a nonprofit educational institute dedicated to advancing the legacy of Dr. Ida P. Rolf\, founder of Structural Integration. Through research and education\, the institute continues to promote a transformative approach to bodywork focused on alignment\, mobility\, and overall well-being. We're excited to celebrate this new chapter and the continued impact they'll have in our community.\n\n\n\nCome show your support for this new member!
X-ALT-DESC;FMTTYPE=text/html:<div style="font-size: 16px\; caret-color: rgb(33\, 33\, 33)\; color: rgb(33\, 33\, 33)\; font-family: Aptos\;">\n<p style="caret-color: rgb(0\, 0\, 0)\; color: rgb(0\, 0\, 0)\;"><span style="font-size:16px\;"><span style="font-family:verdana\;">Join us in welcoming&nbsp\;<a href="https://rolf.org"><strong>Dr. Ida Rolf Institute</strong></a>&nbsp\;(DIRI) to their new home here in Lafayette!&nbsp\;This special event marks the institute&rsquo\;s recent relocation and serves as their official Grand Opening and Ribbon Cutting celebration.</span></span></p>\n\n<p style="caret-color: rgb(0\, 0\, 0)\; color: rgb(0\, 0\, 0)\;"><span style="font-size:16px\;"><span style="font-family:verdana\;">Established in 1971\, DIRI is a nonprofit educational institute dedicated to advancing the legacy of Dr. Ida P. Rolf\, founder of Structural Integration. Through research and education\, the institute continues to promote a transformative approach to bodywork focused on alignment\, mobility\, and overall well-being. We&rsquo\;re excited to celebrate this new chapter and the continued impact they&rsquo\;ll have in our community.<br />\n<br />\nCome show your support for this new member!&nbsp\;</span></span></p>\n</div>\n
LOCATION:450 Courtney Way Suite 100 Lafayette\, CO
UID:e.1234.11879
SEQUENCE:3
DTSTAMP:20260420T215658Z
URL:https://business.lafayettecolorado.com/events/details/ribbon-cutting-the-dr-ida-rolf-institute-11879
END:VEVENT

END:VCALENDAR
