BEGIN:VCALENDAR
VERSION:2.0
PRODID:-//ChamberMaster//Event Calendar 2.0//EN
METHOD:PUBLISH
X-PUBLISHED-TTL:P3D
REFRESH-INTERVAL:P3D
CALSCALE:GREGORIAN
BEGIN:VEVENT
DTSTART:20260221T193000Z
DTEND:20260221T233000Z
X-MICROSOFT-CDO-ALLDAYEVENT:FALSE
SUMMARY:Perimenopause & Sexuality Workshop: The Latest Science + A Somatic Perspective on Personal Growth and Intimacy
DESCRIPTION:Perimenopause & Sexuality Workshop: \n\nPerimenopause as a golden opportunity to create a life-affirming foundation for your intimate world.\n\nWith Melissa Walker\, LPC\, CST\, R-DMT\n\n\n\nSaturday\, February 21st\, 2026\n\n12:30 pm - 4:30 pm Mountain Time\n\n$225\n\nVirtual\n\n\n\nBeginning around 42-45 years old\, perimenopause impacts everything from digestion\, to sleep\, to temperature modulation\, to cognitive function\, and yes\, sexuality!\n\n\n\nUnfortunately\, this life transition has been cast as a disease or a problem to cover up and muscle through. The research is minimal and many primary care physicians and therapists are misinformed.\n\n\n\nWith so many confusing symptoms and a lack of informed support\, perimenopausal people end up feeling helpless and frustrated. As a result\, so many of us miss the opportunity to invite the gifts of this transition to inform our personal and relationship growth and transformation of sexual expression. \n\n\n\nNow\, recent research and a renewed focus on perimenopause as a normal and deeply meaningful time has given us useful information to approach it feeling empowered!\n\n\n\nWhether you are on your way to perimenopause\, are in the hot middle of it\, or have already walked this path\, this group is meant to be informative and insightful as you look forward with hope or look back with a deeper sense of understanding and meaning.  \n\n\n\nTogether\, we will discuss the latest science on this major life/body/heart gateway into the 2nd half of life and how it applies to embodiment and sexual intimacy.\n\n\n\nWe will gather resources\, practice skills\, uncover personal gems\, and use this time as the opportunity to learn how to rewire old patterns and improve intimacy with your own body and the body of an intimate partner.
X-ALT-DESC;FMTTYPE=text/html:<strong>Perimenopause &amp\; Sexuality Workshop:&nbsp\;<br />\n<span style="font-family:questrial\; font-size:14px">Perimenopause as a golden opportunity to create a life-affirming foundation for your intimate world.</span></strong><br />\n<em>With Melissa Walker\, LPC\, CST\, R-DMT</em><br />\n<br />\n<span style="color:rgb(33\, 33\, 33)\; font-family:questrial\; font-size:14px">Saturday\, February 21st\, 2026</span><br />\n<span style="color:rgb(33\, 33\, 33)\; font-family:questrial\; font-size:14px">12:30 pm - 4:30 pm Mountain Time</span><br />\n<span style="color:rgb(33\, 33\, 33)\; font-family:questrial\; font-size:14px">$225</span><br />\n<span style="color:rgb(33\, 33\, 33)\; font-family:questrial\; font-size:14px">Virtual</span><br />\n<br />\n<span style="color:rgb(33\, 33\, 33)\; font-family:questrial\; font-size:14px">Beginning around 42-45 years old\, perimenopause impacts everything from digestion\, to sleep\, to temperature modulation\, to cognitive function\, and yes\,&nbsp\;</span><em>sexuality</em><span style="color:rgb(33\, 33\, 33)\; font-family:questrial\; font-size:14px">!</span><br />\n<br />\n<span style="color:rgb(33\, 33\, 33)\; font-family:questrial\; font-size:14px">Unfortunately\, this life transition has been cast as a disease or a problem to cover up and muscle through. The research is minimal and many primary care physicians and therapists are misinformed.</span><br />\n<br />\n<span style="color:rgb(33\, 33\, 33)\; font-family:questrial\; font-size:14px">With so many confusing symptoms and a lack of informed support\, perimenopausal people end up feeling helpless and frustrated. As a result\, so many of us miss the opportunity to invite the gifts of this transition to inform our personal and relationship growth and transformation of sexual expression.&nbsp\;</span><br />\n<br />\n<span style="color:rgb(33\, 33\, 33)\; font-family:questrial\; font-size:14px">Now\, recent research and a renewed focus on perimenopause as a&nbsp\;</span><em>normal and deeply meaningful</em><span style="color:rgb(33\, 33\, 33)\; font-family:questrial\; font-size:14px">&nbsp\;time has given us useful information to approach it feeling empowered!</span><br />\n<br />\n<span style="color:rgb(33\, 33\, 33)\; font-family:questrial\; font-size:14px">Whether you are on your way to perimenopause\, are in the hot middle of it\, or have already walked this path\, this group is meant to be informative and insightful as you look forward with hope or look back with a deeper sense of understanding and meaning.&nbsp\;&nbsp\;</span><br />\n<br />\n<span style="color:rgb(33\, 33\, 33)\; font-family:questrial\; font-size:14px">Together\, we will discuss the latest science on this major life/body/heart gateway into the 2nd half of life and how it applies to embodiment and sexual intimacy.</span><br />\n<br />\n<span style="color:rgb(33\, 33\, 33)\; font-family:questrial\; font-size:14px">We will gather resources\, practice skills\, uncover personal gems\, and use this time as the opportunity to learn how to rewire old patterns and improve intimacy with your own body and the body of an intimate partner.</span>
LOCATION:Virtual
UID:e.1234.11442
SEQUENCE:3
DTSTAMP:20260421T033738Z
URL:https://business.lafayettecolorado.com/events/details/perimenopause-sexuality-workshop-the-latest-science-a-somatic-perspective-on-personal-growth-and-intimacy-11442
END:VEVENT

END:VCALENDAR
