BEGIN:VCALENDAR
VERSION:2.0
PRODID:-//ChamberMaster//Event Calendar 2.0//EN
METHOD:PUBLISH
X-PUBLISHED-TTL:P3D
REFRESH-INTERVAL:P3D
CALSCALE:GREGORIAN
BEGIN:VEVENT
DTSTART:20260208T220000Z
DTEND:20260208T231500Z
X-MICROSOFT-CDO-ALLDAYEVENT:FALSE
SUMMARY:Make Miracles Happen
DESCRIPTION:Are you ready to make miracles happen? Are you ready for real change in your life\, and in the world?\n\nYou may not know yet what that change looks like. But you feel it. A stirring in your heart. A quiet whisper calling you forward.\n\nIn Part One of Make Miracles Happen\, I guide you into creating miracles in your own life from the inside out.\n\nMiracles aren't about walking on water. They're about deciding what you truly want  holding that vision with unwavering belief  and committing so deeply that what you desire cannot help but move toward you.\n\nThis is a journey of alignment. A return to your highest self.\n\nAnd from that place\, miracles become inevitable.\n\nThis journey is perfect for you if:\n\n\n	\n	You feel stuck and want to reclaim your spark\n	\n	\n	You're ready to start manifesting with clarity and confidence\n	\n	\n	You crave more meaning\, purpose\, and synchronicity\n	\n	\n	You're done with the "push and hustle" model\n	\n	\n	You know you're meant for more  and you're ready to open the door\n	\n	\n	You're ready to throw in the towel! Don't! Take this course instead!\n	\n\n\nIf your soul whispered yes\, that's your sign.\n\nOver 4 weeks\, you will be guided through a step-by-step process to:\n\n\n	\n	Rewire limiting beliefs\n	\n	\n	Activate alignment\n	\n	\n	Open your intuitive channels\n	\n	\n	Become a clear energetic match\n	\n	\n	Manifest with purpose and ease\n	\n	\n	Develop a Miracle Mindset\n	\n\n\nExpect to feel:\n\n\n	\n	More connected and calm\n	\n	\n	Open to possibility\n	\n	\n	Clearer and lighter\n	\n	\n	Guided rather than overwhelmed\n	\n\n\nWhat's Included:\n\n\n	\n	4 Weekly Live Classes - Sundays 3pm - 4:30pm MT (5pm - 6:30 pm ET) January 18 - February 8\, 2026.\n	\n	\n	Meditations & Guided Experiences\n	\n	\n	Worksheets + Journaling Prompts\n	\n	\n	Community Support\n	\n	\n	Need to miss a week? No problem\, recordings are available.\n	\n\n\nAbout Helene:\n\nHelene Rose is a transformational liberation expert. That means that she helps you know your own power so that you create miracles in your life: both personally and professionally. Helene facilitates her signature workshop Be Brilliant   Be You!\, where she teaches her system\, The Brilliance Blueprint  a set of tools and principles designed to help people transform their relationships with themselves and others\, connect with peace\, purpose\, and prosperity\, and reclaim the brilliance within.\n\n\n\n"I help you stop settling\, release self-doubt\, and reclaim your power through transformative coaching and experiential workshops." Helene Rose\n\nHer superpower? Creating spaces where people feel safe\, connected\, inspired  and open to miracles. She is founder of Be Brilliant Network LLC\, an online hub of transformation providing experiential learning classes with teachers across a variety of modalities.\n\nhelenerose.com\n\nJoin our hub of transformation   bebrilliantnetwork.com
X-ALT-DESC;FMTTYPE=text/html:<p><strong>Are you ready to make miracles happen?</strong>&nbsp\;Are you ready for real change&mdash\;in your life\, and in the world?</p>\n\n<p>You may not know yet what that change looks like. But you feel it. A stirring in your heart. A quiet whisper calling you forward.</p>\n\n<p>In&nbsp\;<strong>Part One of&nbsp\;<em>Make Miracles Happen</em></strong>\, I guide you into creating miracles in your own life&mdash\;from the inside out.</p>\n\n<p>Miracles aren&rsquo\;t about walking on water. They&rsquo\;re about deciding what you truly want&hellip\; holding that vision with unwavering belief&hellip\; and committing so deeply that what you desire cannot help but move toward you.</p>\n\n<p>This is a journey of alignment. A return to your highest self.</p>\n\n<p>And from that place\, miracles become inevitable.</p>\n\n<p>This journey is perfect for you if:</p>\n\n<ul>\n	<li>\n	<p>You feel stuck and want to reclaim your spark</p>\n	</li>\n	<li>\n	<p>You&rsquo\;re ready to start manifesting with clarity and confidence</p>\n	</li>\n	<li>\n	<p>You crave more meaning\, purpose\, and synchronicity</p>\n	</li>\n	<li>\n	<p>You&rsquo\;re done with the &ldquo\;push and hustle&rdquo\; model</p>\n	</li>\n	<li>\n	<p>You know you&rsquo\;re meant for more&hellip\; and you&rsquo\;re ready to open the door</p>\n	</li>\n	<li>\n	<p>You&#39\;re ready to throw in the towel! Don&#39\;t! Take this course instead!</p>\n	</li>\n</ul>\n\n<p><strong>If your soul whispered&nbsp\;<em>yes</em>\, that&rsquo\;s your sign.</strong></p>\n\n<p>Over 4 weeks\, you will be guided through a step-by-step process to:</p>\n\n<ul>\n	<li>\n	<p>Rewire limiting beliefs</p>\n	</li>\n	<li>\n	<p>Activate alignment</p>\n	</li>\n	<li>\n	<p>Open your intuitive channels</p>\n	</li>\n	<li>\n	<p>Become a clear energetic match</p>\n	</li>\n	<li>\n	<p>Manifest with purpose and ease</p>\n	</li>\n	<li>\n	<p>Develop a Miracle Mindset</p>\n	</li>\n</ul>\n\n<p>Expect to feel:</p>\n\n<ul>\n	<li>\n	<p>More connected and calm</p>\n	</li>\n	<li>\n	<p>Open to possibility</p>\n	</li>\n	<li>\n	<p>Clearer and lighter</p>\n	</li>\n	<li>\n	<p>Guided rather than overwhelmed</p>\n	</li>\n</ul>\n\n<p>What&#39\;s Included:</p>\n\n<ul>\n	<li>\n	<p>4 Weekly Live Classes - Sundays 3pm - 4:30pm MT (5pm - 6:30 pm ET) January 18 - February 8\, 2026.</p>\n	</li>\n	<li>\n	<p>Meditations &amp\; Guided Experiences</p>\n	</li>\n	<li>\n	<p>Worksheets + Journaling Prompts</p>\n	</li>\n	<li>\n	<p>Community Support</p>\n	</li>\n	<li>\n	<p>Need to miss a week? No problem\, recordings are available.</p>\n	</li>\n</ul>\n\n<p>About Helene:</p>\n\n<p>Helene Rose is a transformational liberation expert. That means that she helps you know your own power so that you create miracles in your life: both personally and professionally. Helene facilitates her signature workshop Be Brilliant &ndash\; Be You!\, where she teaches her system\, The Brilliance Blueprint&trade\;&mdash\;a set of tools and principles designed to help people transform their relationships with themselves and others\, connect with peace\, purpose\, and prosperity\, and reclaim the brilliance within.<br />\n<br />\n&quot\;I help you stop settling\, release self-doubt\, and reclaim your power through transformative coaching and experiential workshops.&quot\; Helene Rose</p>\n\n<p>Her superpower? Creating spaces where people feel safe\, connected\, inspired&hellip\; and open to miracles. She is founder of Be Brilliant Network LLC\, an online hub of transformation providing experiential learning classes with teachers across a variety of modalities.</p>\n\n<p><a href="http://helenerose.com/" rel="noopener noreferrer nofollow" style="scrollbar-width: thin\; scrollbar-color: rgba(37\, 39\, 45\, 0.1) rgba(0\, 0\, 0\, 0)\; background-color: transparent\; text-decoration-line: initial\; text-decoration-color: rgb(0\, 0\, 0)\; color: rgb(0\, 0\, 0)\;" target="_blank">helenerose.com</a></p>\n\n<p><a href="http://bebrilliantnetwork.com/" rel="noopener noreferrer nofollow" style="scrollbar-width: thin\; scrollbar-color: rgba(37\, 39\, 45\, 0.1) rgba(0\, 0\, 0\, 0)\; background-color: transparent\; text-decoration-line: initial\; text-decoration-color: rgb(0\, 0\, 0)\; color: rgb(0\, 0\, 0)\;" target="_blank">Join our hub of transformation &raquo\; bebrilliantnetwork.com</a></p>\n
LOCATION:Zoom! Join: https://helenerose.com/make-miracles-happen/
UID:e.1234.11700
SEQUENCE:3
DTSTAMP:20260421T072726Z
URL:https://business.lafayettecolorado.com/events/details/make-miracles-happen-02-08-2026-11700
END:VEVENT

END:VCALENDAR
