BEGIN:VCALENDAR
VERSION:2.0
PRODID:-//ChamberMaster//Event Calendar 2.0//EN
METHOD:PUBLISH
X-PUBLISHED-TTL:P3D
REFRESH-INTERVAL:P3D
CALSCALE:GREGORIAN
BEGIN:VEVENT
DTSTART:20260412T180000Z
DTEND:20260412T210000Z
X-MICROSOFT-CDO-ALLDAYEVENT:FALSE
SUMMARY:Game Day / Demo Day
DESCRIPTION:Curious if a game will be a hit with your crowd? Drop-In Anytime & Play for Free. Several board games will be available to play\n\nCome one\, come all\, to The Queen's Lounge\n\nSunday 12pm   3pm
X-ALT-DESC;FMTTYPE=text/html:<p>Curious if a game will be a hit with your crowd? Drop-In Anytime &amp\; Play for Free. Several board games will be available to play<br />\nCome one\, come all\, to The Queen&rsquo\;s Lounge<br />\nSunday 12pm &ndash\; 3pm</p>\n
LOCATION:The Read Queen Bookstore 129 N Harrison Ave\, Lafayette\, CO 80026
UID:e.1234.11873
SEQUENCE:3
DTSTAMP:20260421T061123Z
URL:https://business.lafayettecolorado.com/events/details/game-day-demo-day-04-12-2026-11873
END:VEVENT

END:VCALENDAR
