BEGIN:VCALENDAR
VERSION:2.0
PRODID:-//ChamberMaster//Event Calendar 2.0//EN
METHOD:PUBLISH
X-PUBLISHED-TTL:P3D
REFRESH-INTERVAL:P3D
CALSCALE:GREGORIAN
BEGIN:VEVENT
DTSTART:20251011T233000Z
DTEND:20251012T030000Z
X-MICROSOFT-CDO-ALLDAYEVENT:FALSE
SUMMARY:Dawson After Dark
DESCRIPTION:EVENT DETAILS\n\nDate: October 11\n\nTime: Gates Open at 4:30 p.m.  |  Music Begins at 5:30 p.m.\n\nLocation:  Dawson School Lower Field\n\nMore Information & Reserve your FREE Tickets \n\n\n\nGet ready for an unforgettable evening at Dawson After Dark! Join us for a night packed with live music\, delicious food from local food trucks\, and plenty of fun for the whole family. Dance the night away\, enjoy fantastic tunes\, and make memories that will last a lifetime. Don't miss out on Dawson After Dark   where good times come alive!\n\n\n\n\n5:30 p.m.\n\nDress Code Infractions\n\nDawson's faculty and staff band \n\n \n\n6:25 p.m.\n\nCeCe Blackford and the B Team\n\n\n\n7:45 p.m.\n\nRoad Pony
X-ALT-DESC;FMTTYPE=text/html:<div style="background:rgb(250\, 250\, 250)\; border:0px\; padding:0px"><strong><u>EVENT DETAILS</u></strong><br />\n<strong>Date</strong>: October 11<br />\n<strong>Time:</strong>&nbsp\;Gates Open at 4:30 p.m.&nbsp\; |&nbsp\; Music Begins at 5:30 p.m.</div>\n\n<div style="background:rgb(250\, 250\, 250)\; border:0px\; padding:0px"><strong>Location:&nbsp\;</strong>&nbsp\;Dawson School Lower Field<br />\n<strong><a href="https://dawsonschool.myschoolapp.com/page/mustang-market-dawson-after-dark?siteId=1710">More Information &amp\; Reserve your FREE Tickets</a>&nbsp\;</strong><br />\n<br />\nGet ready for an unforgettable evening at Dawson After Dark! Join us for a night packed with live music\, delicious food from local food trucks\, and plenty of fun for the whole family. Dance the night away\, enjoy fantastic tunes\, and make memories that will last a lifetime. Don&#39\;t miss out on Dawson After Dark &ndash\; where good times come alive!</div>\n\n<div style="background:rgb(250\, 250\, 250)\; border:0px\; padding:0px">\n<div><br />\n<strong>5:30 p.m.</strong></div>\n\n<div>Dress Code Infractions</div>\n\n<div><em>Dawson&#39\;s faculty and staff band&nbsp\;</em><br />\n&nbsp\;</div>\n\n<div><strong>6:25 p.m.</strong></div>\n\n<div>CeCe Blackford and the B Team<br />\n<br />\n<strong>7:45 p.m.</strong><br />\nRoad Pony</div>\n</div>\n
LOCATION:Dawson School 10455 Dawson Drive Lafayette\, CO 80026
UID:e.1234.11429
SEQUENCE:3
DTSTAMP:20260421T123431Z
URL:https://business.lafayettecolorado.com/events/details/dawson-after-dark-11429
END:VEVENT

END:VCALENDAR
